BEGIN:VCALENDAR
VERSION:2.0
PRODID:-//ChamberMaster//Event Calendar 2.0//EN
METHOD:PUBLISH
X-PUBLISHED-TTL:P3D
REFRESH-INTERVAL:P3D
CALSCALE:GREGORIAN
BEGIN:VEVENT
DTSTART:20191213T003000Z
DTEND:20191213T033000Z
X-MICROSOFT-CDO-ALLDAYEVENT:FALSE
SUMMARY:ZOOM+Care Ribbon Cutting and Grand Opening
DESCRIPTION:Come join us at the Hampton Inn & Suites Seattle-North/Lynnwood. You'll have a chance to meet your new neighborhood providers and the people who make Zoom's easy\, efficient access to healthcare a reality.\n\nStop by and say hi\, while indulging in some complimentary appetizers and refreshments from Navi's Catering Kitchen.\n\nAnd more!\n\nYou'll also get the opportunity to tour the clinic\, learn about how ZOOM+Care is improving access to healthcare\, and walk away with some fun\, quality swag.\n\nSee you there.
X-ALT-DESC;FMTTYPE=text/html:<p style="margin: 0px\; padding: 0px\; color: rgb(111\, 114\, 135)\; font-size: 16px\; line-height: 1.5rem\; font-family: &quot\;Neue Plak&quot\;\, -apple-system\, BlinkMacSystemFont\, Roboto\, &quot\;Helvetica Neue&quot\;\, Helvetica\, Tahoma\, Arial\, sans-serif\; letter-spacing: 0.5px\;"><span style="font-size:14px\;">Come join us at the Hampton Inn &amp\; Suites Seattle-North/Lynnwood. You&#39\;ll have a chance to meet your new neighborhood providers and the people who make Zoom&#39\;s easy\, efficient access to healthcare a reality.</span></p>\n\n<p style="margin: 0px\; padding: 10px 0px 0px\; color: rgb(111\, 114\, 135)\; font-size: 16px\; line-height: 1.5rem\; font-family: &quot\;Neue Plak&quot\;\, -apple-system\, BlinkMacSystemFont\, Roboto\, &quot\;Helvetica Neue&quot\;\, Helvetica\, Tahoma\, Arial\, sans-serif\; letter-spacing: 0.5px\;"><span style="font-size: 14px\;">Stop by and say hi\, while indulging in some compli</span><span style="font-size: 14px\;">mentary appetizers and refreshments from</span><span style="font-size: 14px\; font-weight: 700\; padding-top: 0px\;">&nbsp\;</span><em style="font-size: 14px\;"><span style="font-weight: 700\; padding-top: 0px\;">Navi&#39\;s Catering Kitchen.</span></em></p>\n\n<p style="margin: 0px\; padding: 10px 0px 0px\; color: rgb(111\, 114\, 135)\; font-size: 16px\; line-height: 1.5rem\; font-family: &quot\;Neue Plak&quot\;\, -apple-system\, BlinkMacSystemFont\, Roboto\, &quot\;Helvetica Neue&quot\;\, Helvetica\, Tahoma\, Arial\, sans-serif\; letter-spacing: 0.5px\;"><span style="font-size:14px\;">And more!</span></p>\n\n<p style="margin: 0px\; padding: 10px 0px 0px\; color: rgb(111\, 114\, 135)\; font-size: 16px\; line-height: 1.5rem\; font-family: &quot\;Neue Plak&quot\;\, -apple-system\, BlinkMacSystemFont\, Roboto\, &quot\;Helvetica Neue&quot\;\, Helvetica\, Tahoma\, Arial\, sans-serif\; letter-spacing: 0.5px\;"><span style="font-size:14px\;">You&#39\;ll also get the opportunity to tour the clinic\, learn about how ZOOM+Care is improving access to healthcare\, and walk away with some fun\, quality swag.</span></p>\n\n<p style="margin: 0px\; padding: 10px 0px 0px\; color: rgb(111\, 114\, 135)\; font-size: 16px\; line-height: 1.5rem\; font-family: &quot\;Neue Plak&quot\;\, -apple-system\, BlinkMacSystemFont\, Roboto\, &quot\;Helvetica Neue&quot\;\, Helvetica\, Tahoma\, Arial\, sans-serif\; letter-spacing: 0.5px\;"><span style="font-size:14px\;">See you there.</span></p>\n
LOCATION:4:30pm-5:00pm: Ribbon Cutting w/ the Lynnwood Chamber of Commerce @ 19220 Alderwood Mall Pkwy Suite 145 5:00pm-7:30pm: Grand Opening Event @ Hampton Inn & Suites Seattle-North/Lynnwood
UID:e.3041.905
SEQUENCE:3
DTSTAMP:20260422T075245Z
URL:https://business.lynnwoodchamber.org/events/details/zoom-care-ribbon-cutting-and-grand-opening-905
END:VEVENT

END:VCALENDAR
