BEGIN:VCALENDAR
VERSION:2.0
PRODID:-//ChamberMaster//Event Calendar 2.0//EN
METHOD:PUBLISH
X-PUBLISHED-TTL:P3D
REFRESH-INTERVAL:P3D
CALSCALE:GREGORIAN
BEGIN:VEVENT
DTSTART:20190822T220000Z
DTEND:20190823T010000Z
X-MICROSOFT-CDO-ALLDAYEVENT:FALSE
SUMMARY:YWCA Presents: Women RISE Career Workshop
DESCRIPTION:This FREE event brings the community together to refresh\, inspire\, support\, and empower women in the workforce with volunteers to provide on-site interview coaching\, resume reviews\, and professional headshots for women from all walks of life who want to start looking for work or ready to take the next step in their career. A limited number of complimentary onsite childcare spaces are available to allow you to fully participate in all the RISE activities. Please request childcare when registering for the event and a YWCA staff member will follow up with you. 3 pm to 4 pm (10 spaces available) 4 pm to 5 pm (10 spaces available) 5 pm to 6 pm (10 spaces available) Thank you to our event partners: Hunni Company My Edmonds News The Refinery Salon Rogue Walnut Street Coffee
X-ALT-DESC;FMTTYPE=text/html:This FREE event brings the community together to refresh\, inspire\, support\, and empower women in the workforce with volunteers to provide on-site interview coaching\, resume reviews\, and professional headshots for women from all walks of life who want to start looking for work or ready to take the next step in their career. A limited number of complimentary onsite childcare spaces are available to allow you to fully participate in all the RISE activities. Please request childcare when registering for the event and a YWCA staff member will follow up with you. 3 pm to 4 pm (10 spaces available) 4 pm to 5 pm (10 spaces available) 5 pm to 6 pm (10 spaces available) Thank you to our event partners: Hunni Company My Edmonds News The Refinery Salon Rogue Walnut Street Coffee
LOCATION:Edmonds Center for the Arts 410 4th Avenue North Edmonds\, WA 98020
UID:e.3041.883
SEQUENCE:3
DTSTAMP:20260422T115813Z
URL:https://business.lynnwoodchamber.org/events/details/ywca-presents-women-rise-career-workshop-883
END:VEVENT

END:VCALENDAR
