BEGIN:VCALENDAR
VERSION:2.0
PRODID:-//ChamberMaster//Event Calendar 2.0//EN
METHOD:PUBLISH
X-PUBLISHED-TTL:P3D
REFRESH-INTERVAL:P3D
CALSCALE:GREGORIAN
BEGIN:VEVENT
DTSTART:20180421T160000Z
DTEND:20180421T200000Z
X-MICROSOFT-CDO-ALLDAYEVENT:FALSE
SUMMARY:Youth Day at Inspirus Credit Union
DESCRIPTION:Join us for a day of food\, fun\, games and more to celebrate Credit Union Youth month at Inspirus!\n\n\n\nWe'll have fun games to play\, swag and prizes to give away\, and credit union activity books so even our youngest savers can further their learning about savings through educational coloring books.\n\n\n\nBring your son\, daughter\, grandchild\, niece\, or nephew for a kid-friendly welcome to the world of savings. Inspirus offers youth accounts for all ages\, beginning with M3 Money Club  for our youngest savers. Check them out at inspirusCU.org/education-resources.
X-ALT-DESC;FMTTYPE=text/html:<span style="color: rgb(75\, 79\, 86)\; font-family: Helvetica\, Arial\, sans-serif\; font-size: 14px\;">Join us for a day of food\, fun\, games and more to celebrate Credit Union Youth month at Inspirus!</span><br style="color: rgb(75\, 79\, 86)\; font-family: Helvetica\, Arial\, sans-serif\; font-size: 14px\;" />\n<br style="color: rgb(75\, 79\, 86)\; font-family: Helvetica\, Arial\, sans-serif\; font-size: 14px\;" />\n<span style="color: rgb(75\, 79\, 86)\; font-family: Helvetica\, Arial\, sans-serif\; font-size: 14px\;">We&#39\;ll have fun games to play\, swag and prizes to give away\, and credit union activity books so even our youngest savers can further their learning about savings through educational coloring books.</span><br style="color: rgb(75\, 79\, 86)\; font-family: Helvetica\, Arial\, sans-serif\; font-size: 14px\;" />\n<br style="color: rgb(75\, 79\, 86)\; font-family: Helvetica\, Arial\, sans-serif\; font-size: 14px\;" />\n<span style="color: rgb(75\, 79\, 86)\; font-family: Helvetica\, Arial\, sans-serif\; font-size: 14px\;">Bring your son\, daughter\, grandchild\, niece\, or nephew for a kid-friendly welcome to the world of savings. Inspirus offers youth accounts for all ages\, beginning with M3 Money Club&reg\; for our youngest savers. Check them out at&nbsp\;</span><a data-lynx-mode="asynclazy" data-lynx-uri="https://l.facebook.com/l.php?u=http%3A%2F%2FinspirusCU.org%2Feducation-resources&amp\;h=ATPE18n-eyGer2fTaMc4t-qUGs0HcgtuaQfLCc4YHwPEngnSJWpZCli1u--2TlRN3hwooGarw3pfxWL0DIAnOFpRsl4_-1uP7epXM7szEhApiUHfs1Lalh3tr_rtlyDKCbI" href="http://inspiruscu.org/education-resources" rel="nofollow noopener" style="color: rgb(54\, 88\, 153)\; cursor: pointer\; text-decoration-line: none\; font-family: Helvetica\, Arial\, sans-serif\; font-size: 14px\;" target="_blank"><span style="font-family: inherit\;">inspirusCU.org/</span><wbr />education-resources</a><span style="color: rgb(75\, 79\, 86)\; font-family: Helvetica\, Arial\, sans-serif\; font-size: 14px\;">.</span>
LOCATION:Inspirus Credit Union 3405 188th St SW Lynnwood\, WA 98037
UID:e.3041.206
SEQUENCE:3
DTSTAMP:20260423T094043Z
URL:https://business.lynnwoodchamber.org/events/details/youth-day-at-inspirus-credit-union-206
END:VEVENT

END:VCALENDAR
