BEGIN:VCALENDAR
VERSION:2.0
PRODID:-//ChamberMaster//Event Calendar 2.0//EN
METHOD:PUBLISH
X-PUBLISHED-TTL:P3D
REFRESH-INTERVAL:P3D
CALSCALE:GREGORIAN
BEGIN:VEVENT
DTSTART:20250809T023000Z
DTEND:20250817T210000Z
X-MICROSOFT-CDO-ALLDAYEVENT:FALSE
SUMMARY:You're a Good Man\, Charlie Brown
DESCRIPTION:Ever-hopeful\, Charlie Brown searches for what it means to be a good person\, finding unexpected answers from his friends Lucy\, Linus\, Schroeder\, Sally and Snoopy.  Visit with the gang as they set out to discover how happiness in life is made up of all the little moments we often take for granted. This bright and sunny show is packed with upbeat songs\, funny comics and the creative genius of Charles M. Schultz\, with a book by Clark Gesner and Michael Mayer\, and music and lyrics by Clark Gesner and Andrew Lippa.
X-ALT-DESC;FMTTYPE=text/html:Ever-hopeful\, Charlie Brown searches for what it means to be a good person\, finding unexpected answers from his friends Lucy\, Linus\, Schroeder\, Sally and Snoopy.&nbsp\; Visit with the gang as they set out to discover how happiness in life is made up of all the little moments we often take for granted. This bright and sunny show is packed with upbeat songs\, funny comics and the creative genius of Charles M. Schultz\, with a book by Clark Gesner and Michael Mayer\, and music and lyrics by Clark Gesner and Andrew Lippa.
LOCATION:The Phoenix Theatre
UID:e.3041.1579
SEQUENCE:3
DTSTAMP:20260419T162216Z
URL:https://business.lynnwoodchamber.org/events/details/you-re-a-good-man-charlie-brown-1579
END:VEVENT

END:VCALENDAR
