BEGIN:VCALENDAR
VERSION:2.0
PRODID:-//ChamberMaster//Event Calendar 2.0//EN
METHOD:PUBLISH
X-PUBLISHED-TTL:P3D
REFRESH-INTERVAL:P3D
CALSCALE:GREGORIAN
BEGIN:VEVENT
DTSTART:20181031T210000Z
DTEND:20181031T230000Z
X-MICROSOFT-CDO-ALLDAYEVENT:FALSE
SUMMARY:Work Opportunities Open House and Ribbon Cutting
DESCRIPTION:Please join us as we celebrate our move to our new building in the Lynnwood City Core. Enjoy refreshments and hear more about the employment services Work Opportunities provides to adults with disabilities across Snohomish County. We look forward to seeing you!
X-ALT-DESC;FMTTYPE=text/html:Please join us as we celebrate our move to our new building in the Lynnwood City Core. Enjoy refreshments and hear more about the employment services <strong>Work Opportunities</strong> provides to adults with disabilities across Snohomish County. We look forward to seeing you!<br />\n<br />\n<br />\n<br />\n&nbsp\;
LOCATION:4232 198th St. SW Lynnwood\, WA 98036
UID:e.3041.682
SEQUENCE:3
DTSTAMP:20260423T011726Z
URL:https://business.lynnwoodchamber.org/events/details/work-opportunities-open-house-and-ribbon-cutting-682
END:VEVENT

END:VCALENDAR
