BEGIN:VCALENDAR
VERSION:2.0
PRODID:-//ChamberMaster//Event Calendar 2.0//EN
METHOD:PUBLISH
X-PUBLISHED-TTL:P3D
REFRESH-INTERVAL:P3D
CALSCALE:GREGORIAN
BEGIN:VEVENT
DTSTART:20180628T230000Z
DTEND:20180629T030000Z
X-MICROSOFT-CDO-ALLDAYEVENT:FALSE
SUMMARY:Woodway Influence Magazine invites you to a Get-a-Way Event Just For You
DESCRIPTION:Your Woodway Influence Magazine invites you to a Get-a-Way event just for you.\n\n\n\nLive music by Statement of Sound DJ and "Robbie Dee" performing live Elvis music.\n\n\n\nDoor prizes * Food/Fun * Free Parking
X-ALT-DESC;FMTTYPE=text/html:Your Woodway Influence Magazine invites you to a Get-a-Way event just for you.<br />\n<br />\nLive music by Statement of Sound DJ and &quot\;Robbie Dee&quot\; performing live Elvis music.<br />\n<br />\nDoor prizes * Food/Fun * Free Parking<br />\n<br />\n&nbsp\;
LOCATION:Edmonds Yacht Club 326 Admiral Way Edmonds\, WA 98020
UID:e.3041.378
SEQUENCE:3
DTSTAMP:20260423T065037Z
URL:https://business.lynnwoodchamber.org/events/details/woodway-influence-magazine-invites-you-to-a-get-a-way-event-just-for-you-378
END:VEVENT

END:VCALENDAR
