BEGIN:VCALENDAR
VERSION:2.0
PRODID:-//ChamberMaster//Event Calendar 2.0//EN
METHOD:PUBLISH
X-PUBLISHED-TTL:P3D
REFRESH-INTERVAL:P3D
CALSCALE:GREGORIAN
BEGIN:VEVENT
DTSTART:20190222T000000Z
DTEND:20190222T020000Z
X-MICROSOFT-CDO-ALLDAYEVENT:FALSE
SUMMARY:Wells Fargo Advisors Ribbon Cutting and Open House
DESCRIPTION:Join us in celebrating the new location of Wells Fargo Advisors Lynnwood Branch with a Ribbon Cutting and Open House.
X-ALT-DESC;FMTTYPE=text/html:Join us in celebrating the new location of Wells Fargo Advisors Lynnwood Branch with a Ribbon Cutting and Open House.
LOCATION:3400 188th St. SW\, Suite 500 Lynnwood\, WA 98036
UID:e.3041.702
SEQUENCE:3
DTSTAMP:20260422T194830Z
URL:https://business.lynnwoodchamber.org/events/details/wells-fargo-advisors-ribbon-cutting-and-open-house-702
END:VEVENT

END:VCALENDAR
