BEGIN:VCALENDAR
VERSION:2.0
PRODID:-//ChamberMaster//Event Calendar 2.0//EN
METHOD:PUBLISH
X-PUBLISHED-TTL:P3D
REFRESH-INTERVAL:P3D
CALSCALE:GREGORIAN
BEGIN:VEVENT
DTSTART:20210123T180000Z
DTEND:20210123T220000Z
X-MICROSOFT-CDO-ALLDAYEVENT:FALSE
SUMMARY:Washington Kids in Transition Food Drive
DESCRIPTION:Washington Kids in Transition hosts a distribution center in Lynnwood Wa. Since the beginning of the year\, our emergency food pantry has been hit hard. Our emergency food boxes are distributed\, at the request of school advocates seeking resources for homeless students in the Edmonds School District
X-ALT-DESC;FMTTYPE=text/html:Washington Kids in Transition hosts a distribution center in Lynnwood Wa. Since the beginning of the year\, our emergency food pantry has been hit hard. Our emergency food boxes are distributed\, at the request of school advocates seeking resources for homeless students in the Edmonds School District
LOCATION:19721 Scriber Lake Rd. #B Lynnwood Wa. 98036
UID:e.3041.961
SEQUENCE:3
DTSTAMP:20260421T140550Z
URL:https://business.lynnwoodchamber.org/events/details/washington-kids-in-transition-food-drive-961
END:VEVENT

END:VCALENDAR
