BEGIN:VCALENDAR
VERSION:2.0
PRODID:-//ChamberMaster//Event Calendar 2.0//EN
METHOD:PUBLISH
X-PUBLISHED-TTL:P3D
REFRESH-INTERVAL:P3D
CALSCALE:GREGORIAN
BEGIN:VEVENT
DTSTART:20200310T230000Z
DTEND:20200311T010000Z
X-MICROSOFT-CDO-ALLDAYEVENT:FALSE
SUMMARY:Veritas Funding Grand Opening and Ribbon Cutting
DESCRIPTION:Grand Opening and Ribbon Cutting Ceremony!\n\nCome help celebrate the newest location.\n\nRefreshments will be served.
X-ALT-DESC;FMTTYPE=text/html:Grand Opening and Ribbon Cutting Ceremony!<br />\nCome help celebrate the newest location.<br />\nRefreshments will be served.
LOCATION:4211 Alderwood Mall Blvd. Suite 202 Lynnwood\, WA 98036
UID:e.3041.914
SEQUENCE:3
DTSTAMP:20260422T030509Z
URL:https://business.lynnwoodchamber.org/events/details/veritas-funding-grand-opening-and-ribbon-cutting-914
END:VEVENT

END:VCALENDAR
