BEGIN:VCALENDAR
VERSION:2.0
PRODID:-//ChamberMaster//Event Calendar 2.0//EN
METHOD:PUBLISH
X-PUBLISHED-TTL:P3D
REFRESH-INTERVAL:P3D
CALSCALE:GREGORIAN
BEGIN:VEVENT
DTSTART:20180912T050000Z
DTEND:20180912T050000Z
X-MICROSOFT-CDO-ALLDAYEVENT:FALSE
SUMMARY:US Department of Labor - Overtime Rule Listening Sessions
DESCRIPTION:Overtime Rule Listening Sessions\n\nThe Wage and Hour Division of the U.S. Department of Labor has announced that in the upcoming weeks it will hold public listening sessions to gather views on the Part 541 white collar exemption regulations\, often referred to as the "Overtime Rule." Issued under the Fair Labor Standards Act\, these regulations implement exemptions from overtime pay requirements for executive\, administrative\, professional\, and certain other employees. The Department plans to update the Overtime Rule and is interested in hearing the views and ideas of participants on possible revisions to the regulations.
X-ALT-DESC;FMTTYPE=text/html:<h2 style="box-sizing: border-box\; color: rgb(0\, 0\, 0)\; font-weight: 600\; font-size: 18.4px\; margin-left: 10px\; margin-bottom: 5px\; padding: 3px\; font-family: Tahoma\, Verdana\, Segoe\, sans-serif\;"><span style="font-size:14px\;">Overtime Rule Listening Sessions</span></h2>\n\n<p style="box-sizing: border-box\; font-size: 14.4px\; margin-left: 10px\; margin-bottom: 5px\; padding: 3px\; color: rgb(0\, 0\, 0)\; font-family: Tahoma\, Verdana\, Segoe\, sans-serif\;"><span style="font-size:14px\;"><span style="font-family:arial\;">The Wage and Hour Division of the U.S. Department of Labor&nbsp\;<a href="https://www.dol.gov/cgi-bin/leave-dol.asp?exiturl=https://www.federalregister.gov/documents/2018/08/28/2018-18649/white-collar-exemption-regulations-public-listening-sessions&amp\;exitTitle=www.federalregister.gov&amp\;fedpage=yes" style="box-sizing: border-box\; color: purple\;">has announced</a>&nbsp\;that in the upcoming weeks it will hold public listening sessions to gather views on the Part 541 white collar exemption regulations\, often referred to as the &ldquo\;Overtime Rule.&rdquo\; Issued under the Fair Labor Standards Act\, these regulations implement exemptions from overtime pay requirements for executive\, administrative\, professional\, and certain other employees. The Department plans to update the Overtime Rule and is interested in hearing the views and ideas of participants on possible revisions to the regulations.</span></span></p>\n
LOCATION:Jackson Federal Building 912 2nd Avenue\, Suite 566 Seattle
UID:e.3041.672
SEQUENCE:3
DTSTAMP:20260423T041303Z
URL:https://business.lynnwoodchamber.org/events/details/us-department-of-labor-overtime-rule-listening-sessions-672
END:VEVENT

END:VCALENDAR
