BEGIN:VCALENDAR
VERSION:2.0
PRODID:-//ChamberMaster//Event Calendar 2.0//EN
METHOD:PUBLISH
X-PUBLISHED-TTL:P3D
REFRESH-INTERVAL:P3D
CALSCALE:GREGORIAN
BEGIN:VEVENT
DTSTART:20200409T230000Z
DTEND:20200410T000000Z
X-MICROSOFT-CDO-ALLDAYEVENT:FALSE
SUMMARY:The Happiest Hour
DESCRIPTION:Join your fellow chamber members and meet new connections all from the comfort of home. You will get information on the latest  resources for your business as well.\n\n\n\nBring your snack and beverage and see you Thursday!
X-ALT-DESC;FMTTYPE=text/html:<span style="font-size:14px\;"><span style="color: rgb(32\, 32\, 32)\; font-family: Helvetica\;">Join your fellow chamber members and meet new connections all from the comfort of home. You will get information on the latest &nbsp\;resources for your business as well.</span><br style="color: rgb(32\, 32\, 32)\; font-family: Helvetica\; font-size: 12px\;" />\n<br style="color: rgb(32\, 32\, 32)\; font-family: Helvetica\; font-size: 12px\;" />\n<span style="color: rgb(32\, 32\, 32)\; font-family: Helvetica\;">Bring your snack and beverage and see you Thursday!</span></span>
LOCATION:Your house!
UID:e.3041.929
SEQUENCE:3
DTSTAMP:20260422T013845Z
URL:https://business.lynnwoodchamber.org/events/details/the-happiest-hour-929
END:VEVENT

END:VCALENDAR
