BEGIN:VCALENDAR
VERSION:2.0
PRODID:-//ChamberMaster//Event Calendar 2.0//EN
METHOD:PUBLISH
X-PUBLISHED-TTL:P3D
REFRESH-INTERVAL:P3D
CALSCALE:GREGORIAN
BEGIN:VEVENT
DTSTART:20240315T003000Z
DTEND:20240315T020000Z
X-MICROSOFT-CDO-ALLDAYEVENT:FALSE
SUMMARY:The French Riviera - Discover the Details!
DESCRIPTION:The Lynnwood Chamber is traveling to the South of France & Monaco   and YOU'RE invited!\n\nJoin us Thursday\, March 14th at 5:30 pm in the Lynnwood Chamber of Commerce Board Room for details on our October 8th 2024 Trip of a Lifetime - Cannes! St. Tropez! Monte Carlo! Grasse! Mougins! San Romo! Ventimiglia! Antibes! St. Paul! Nice!\n\n \n\nOliver Bergeron\, President of CI Destinations\, will provide important details and answer all of your questions about this all inclusive dream vacation\, made available to Chamber Members and their guests at specialty discounted rates!
X-ALT-DESC;FMTTYPE=text/html:<strong><em><span style="color:black\;">The Lynnwood Chamber is traveling to the South of France &amp\; Monaco &ndash\; and YOU&#39\;RE invited!</span></em></strong><br />\n<span style="color:black\;">Join us Thursday\, March 14<sup>th</sup>&nbsp\;at 5:30 pm in the Lynnwood Chamber of Commerce Board Room for details on our October 8th <strong>2024 Trip of a Lifetime</strong><em>&nbsp\;-&nbsp\;</em></span><em><span style="color:black\;">Cannes! St. Tropez! Monte Carlo! Grasse! Mougins! San Romo! Ventimiglia! Antibes! St. Paul! Nice!</span></em><br />\n&nbsp\;<br />\n<strong><span style="color:black\;">Oliver Bergeron\, President of CI Destinations\,&nbsp\;</span></strong><span style="color:black\;">will pr</span><span style="color:black\;">ovide important details and answer all of your questions about this all inclusive dream vacation\, made available to Chamber Members and their guests at specialty discounted rates!</span><br />\n&nbsp\;
LOCATION:Lynnwood Chamber of Commerce 3815 196th St SW\, Ste 136\, Lynnwood
UID:e.3041.1216
SEQUENCE:3
DTSTAMP:20260421T100006Z
URL:https://business.lynnwoodchamber.org/events/details/the-french-riviera-discover-the-details-1216
END:VEVENT

END:VCALENDAR
