BEGIN:VCALENDAR
VERSION:2.0
PRODID:-//ChamberMaster//Event Calendar 2.0//EN
METHOD:PUBLISH
X-PUBLISHED-TTL:P3D
REFRESH-INTERVAL:P3D
CALSCALE:GREGORIAN
BEGIN:VEVENT
DTSTART:20250516T023000Z
DTEND:20250518T210000Z
X-MICROSOFT-CDO-ALLDAYEVENT:FALSE
SUMMARY:The Black Box Theatre at Edmonds Presents: Alice by Heart
DESCRIPTION:The Black Box Theatre at Edmonds Presents: Alice by Heart by Duncan Sheik\, Steven Sater\, and Jessie Nelson Directed by Rachel Klem & Hailey Henderson Alice by Heart is a musical version of Alice in Wonderland seen through the eyes of a young woman living in war-torn London. Can this Alice stop time with the well-known tale and keep the outside world away? With the same outrageous characters and nonsensical style\, this young adult version gives a fresh perspective to a classic story.
X-ALT-DESC;FMTTYPE=text/html:The Black Box Theatre at Edmonds Presents: Alice by Heart by Duncan Sheik\, Steven Sater\, and Jessie Nelson Directed by Rachel Klem &amp\; Hailey Henderson Alice by Heart is a musical version of Alice in Wonderland seen through the eyes of a young woman living in war-torn London. Can this Alice stop time with the well-known tale and keep the outside world away? With the same outrageous characters and nonsensical style\, this young adult version gives a fresh perspective to a classic story.
LOCATION:The Black Box Theatre at Edmonds College 20310 68th Ave. W.\, Lynnwood\, WA 98036
UID:e.3041.1562
SEQUENCE:3
DTSTAMP:20260421T095812Z
URL:https://business.lynnwoodchamber.org/events/details/the-black-box-theatre-at-edmonds-presents-alice-by-heart-1562
END:VEVENT

END:VCALENDAR
