BEGIN:VCALENDAR
VERSION:2.0
PRODID:-//ChamberMaster//Event Calendar 2.0//EN
METHOD:PUBLISH
X-PUBLISHED-TTL:P3D
REFRESH-INTERVAL:P3D
CALSCALE:GREGORIAN
BEGIN:VEVENT
DTSTART:20190202T013000Z
DTEND:20190202T043000Z
X-MICROSOFT-CDO-ALLDAYEVENT:FALSE
SUMMARY:The Art of Food and Wine
DESCRIPTION:Lynnwood Arts Commission/Lynnwood Parks & Recreation Foundation proudly presents...\n\nThe Art of Food & Wine\n\n    Don't let the post-holiday blahs get you down. Come enjoy an evening out with friends to taste regional wines and savor exquisitely prepared gourmet food. Listen to live music and experience interactive art demonstrations\, too!\n\n    This fun new community event will raise funds for murals and other public art projects in Lynnwood. \n\n21+ only\, IDs will be required for entrance.
X-ALT-DESC;FMTTYPE=text/html:<p style="margin: 5px 0px 15px\; padding: 0px\; border: none\; font-variant-numeric: inherit\; font-variant-east-asian: inherit\; font-stretch: inherit\; font-size: 18px\; line-height: inherit\; font-family: aktiv-grotesk\; color: rgb(58\, 58\, 58)\; vertical-align: baseline\; list-style: none\;"><span style="color: rgb(58\, 58\, 58)\; font-family: aktiv-grotesk\; font-size: 18px\;"><strong><span style="font-size:12px\;"><span style="font-family:arial\;">Lynnwood Arts Commission/Lynnwood Parks &amp\; Recreation Foundation proudly presents...</span></span></strong></span><br />\n<span style="font-size:12px\;"><strong><span style="border:none windowtext 1.0pt\;padding:0in\;"><span style="color:#3A3A3A\;"><span style="font-family:arial\,sans-serif\;">The Art of Food &amp\; Wine</span></span></span></strong></span><br style="color:inherit\;" />\n&nbsp\;&nbsp\;&nbsp\;&nbsp\;<span style="font-size:12px\;"><span style="color:#3A3A3A\;"><span style="font-family:arial\,sans-serif\;">Don&rsquo\;t let the post-holiday blahs get you down. Come enjoy an&nbsp\;evening out with friends to taste regional wines and savor exquisitely prepared gourmet food. Listen to live music and experience interactive art demonstrations\, too!</span></span></span><br />\n&nbsp\;&nbsp\;&nbsp\;&nbsp\;<span style="font-size:12px\;"><span style="color:#3A3A3A\;"><span style="font-family:arial\,sans-serif\;">This fun new community event will raise funds for murals and other public art projects in Lynnwood.&nbsp\;</span></span><br />\n<em style="font-variant:inherit\;font-weight:inherit\;font-stretch:inherit\;font-size:inherit\;line-height:inherit\;color:inherit\;"><span style="border:none windowtext 1.0pt\;padding:0in\;"><span style="color:#3A3A3A\;"><span style="font-family:arial\,sans-serif\;">21+ only\, IDs will be required for entrance.</span></span></span></em></span></p>\n
LOCATION:Lynnwood Convention Center 3711 196th St. SW Lynnwood\, WA 98036
UID:e.3041.692
SEQUENCE:3
DTSTAMP:20260422T194956Z
URL:https://business.lynnwoodchamber.org/events/details/the-art-of-food-and-wine-692
END:VEVENT

END:VCALENDAR
