BEGIN:VCALENDAR
VERSION:2.0
PRODID:-//ChamberMaster//Event Calendar 2.0//EN
METHOD:PUBLISH
X-PUBLISHED-TTL:P3D
REFRESH-INTERVAL:P3D
CALSCALE:GREGORIAN
BEGIN:VEVENT
DTSTART:20190317T170000Z
DTEND:20190318T000000Z
X-MICROSOFT-CDO-ALLDAYEVENT:FALSE
SUMMARY:St. Patrick's Day at Mr. Kleen Stations
DESCRIPTION:Paddy the Leprechaun will be giving out coupons and gold coins that taste like chocolate!
X-ALT-DESC;FMTTYPE=text/html:Paddy the Leprechaun will be giving out coupons and gold coins that taste like chocolate!
LOCATION:19611 Alderwood Mall Pkwy\, Lynnwood & 19907 44th Av W. Lynnwood
UID:e.3041.838
SEQUENCE:3
DTSTAMP:20260422T194013Z
URL:https://business.lynnwoodchamber.org/events/details/st-patrick-s-day-at-mr-kleen-stations-838
END:VEVENT

END:VCALENDAR
