BEGIN:VCALENDAR
VERSION:2.0
PRODID:-//ChamberMaster//Event Calendar 2.0//EN
METHOD:PUBLISH
X-PUBLISHED-TTL:P3D
REFRESH-INTERVAL:P3D
CALSCALE:GREGORIAN
BEGIN:VEVENT
DTSTART;VALUE=DATE:20180728
DTEND;VALUE=DATE:20180729
TRANSP:TRANSPARENT
X-MICROSOFT-CDO-ALLDAYEVENT:TRUE
SUMMARY:Sprint Sizzling Spring Saturday
DESCRIPTION:Come visit the new Sprint by Verity Wireless store at 3333 184th St. SW in Lynnwood. Special plans\, prices and discounts on accessories!
X-ALT-DESC;FMTTYPE=text/html:Come visit the new Sprint by Verity Wireless store at 3333 184th St. SW in Lynnwood. Special plans\, prices and discounts on accessories!
LOCATION:3333 184th St. SW Lynnwood\, WA 98036
UID:e.3041.660
SEQUENCE:3
DTSTAMP:20260423T052717Z
URL:https://business.lynnwoodchamber.org/events/details/sprint-sizzling-spring-saturday-660
END:VEVENT

END:VCALENDAR
