BEGIN:VCALENDAR
VERSION:2.0
PRODID:-//ChamberMaster//Event Calendar 2.0//EN
METHOD:PUBLISH
X-PUBLISHED-TTL:P3D
REFRESH-INTERVAL:P3D
CALSCALE:GREGORIAN
BEGIN:VEVENT
DTSTART:20180926T233000Z
DTEND:20180927T000000Z
X-MICROSOFT-CDO-ALLDAYEVENT:FALSE
SUMMARY:Sprint by Verity Wireless Ribbon Cutting
DESCRIPTION:Celebrate the opening of Sprint by Verity Wireless with a Ribbon Cutting!
X-ALT-DESC;FMTTYPE=text/html:Celebrate the opening of Sprint by Verity Wireless with a Ribbon Cutting!
LOCATION:3333 184th St. SW\, Ste. D Lynnwood\, WA 98087
UID:e.3041.665
SEQUENCE:3
DTSTAMP:20260423T030938Z
URL:https://business.lynnwoodchamber.org/events/details/sprint-by-verity-wireless-ribbon-cutting-665
END:VEVENT

END:VCALENDAR
