BEGIN:VCALENDAR
VERSION:2.0
PRODID:-//ChamberMaster//Event Calendar 2.0//EN
METHOD:PUBLISH
X-PUBLISHED-TTL:P3D
REFRESH-INTERVAL:P3D
CALSCALE:GREGORIAN
BEGIN:VEVENT
DTSTART:20200214T020000Z
DTEND:20200214T033000Z
X-MICROSOFT-CDO-ALLDAYEVENT:FALSE
SUMMARY:Soundview's Partners in Parenting Presents Dr. Brock Eide
DESCRIPTION:Soundview School offers a public speakers' forum to help us understand a little more about parenting. The next speaker is Dr. Brock Eide\, author of 'The Dyslexic Advantage and The Mislabeled Child.' Did you know that many successful architects\, lawyers\, and engineers had difficulties learning to read and write as children? Dr. Eide offers invaluable insight into the challenges and gifts of dyslexia. Learn how 20% of people individuals with dyslexia share a unique learning style that can create advantages in a classroom\, at a job\, or at home. Please register at www.soundview.org/partners-in-parenting. This event is free and open to the public. Questions? Please contact Chris Watson at cwatson@soundview.org or call (425) 778-8572.
X-ALT-DESC;FMTTYPE=text/html:Soundview School offers a public speakers&#39\; forum to help us understand a little more about parenting. The next speaker is Dr. Brock Eide\, author of &#39\;The Dyslexic Advantage and The Mislabeled Child.&rsquo\; Did you know that many successful architects\, lawyers\, and engineers had difficulties learning to read and write as children? Dr. Eide offers invaluable insight into the challenges and gifts of dyslexia. Learn how 20% of people&mdash\;individuals with dyslexia&mdash\;share a unique learning style that can create advantages in a classroom\, at a job\, or at home. Please register at www.soundview.org/partners-in-parenting. This event is free and open to the public. Questions? Please contact Chris Watson at cwatson@soundview.org or call (425) 778-8572.
LOCATION:Soundview School 6515 196th St SW Lynnwood\, WA 98036
UID:e.3041.912
SEQUENCE:3
DTSTAMP:20260422T042646Z
URL:https://business.lynnwoodchamber.org/events/details/soundview-s-partners-in-parenting-presents-dr-brock-eide-912
END:VEVENT

END:VCALENDAR
