BEGIN:VCALENDAR
VERSION:2.0
PRODID:-//ChamberMaster//Event Calendar 2.0//EN
METHOD:PUBLISH
X-PUBLISHED-TTL:P3D
REFRESH-INTERVAL:P3D
CALSCALE:GREGORIAN
BEGIN:VEVENT
DTSTART:20200517T033000Z
DTEND:20200517T043000Z
X-MICROSOFT-CDO-ALLDAYEVENT:FALSE
SUMMARY:Soundview Bingo Night!
DESCRIPTION:Soundview Bingo Night\n\n\n\nThis online fundraising event is going to be a great way for all of us to have a little fun and to show our support for our community. Funds raised from this night of frolicsome delight will be dedicated to student financial aid. This is a critical investment in your Soundview community and we are asking you to show your support at an equally critical time. Guest speakers\, lots of prizes\, and a little craziness are all going to come together for a very good time.\n\n\n\nSoundview School is a non-profit organization\, EIN 91-1832492. All gifts to Soundview School are tax deductible to the extent allowed by law.
X-ALT-DESC;FMTTYPE=text/html:Soundview Bingo Night<br />\n<br />\nThis online fundraising event is going to be a great way for all of us to have a little fun and to show our support for our community. Funds raised from this night of frolicsome delight will be dedicated to student financial aid. This is a critical investment in your Soundview community and we are asking you to show your support at an equally critical time. Guest speakers\, lots of prizes\, and a little craziness are all going to come together for a very good time.<br />\n<br />\nSoundview School is a non-profit organization\, EIN 91-1832492. All gifts to Soundview School are tax deductible to the extent allowed by law.
LOCATION:Online!
UID:e.3041.934
SEQUENCE:3
DTSTAMP:20260422T001443Z
URL:https://business.lynnwoodchamber.org/events/details/soundview-bingo-night-934
END:VEVENT

END:VCALENDAR
