BEGIN:VCALENDAR
VERSION:2.0
PRODID:-//ChamberMaster//Event Calendar 2.0//EN
METHOD:PUBLISH
X-PUBLISHED-TTL:P3D
REFRESH-INTERVAL:P3D
CALSCALE:GREGORIAN
BEGIN:VEVENT
DTSTART:20180726T010000Z
DTEND:20180726T030000Z
X-MICROSOFT-CDO-ALLDAYEVENT:FALSE
SUMMARY:Sound Transit: Lynnwood Link Open House
DESCRIPTION:Check out the latest design for your future station\, learn about next steps and stay connected.\n\nA short presentation will begin at 6:15 p.m.
X-ALT-DESC;FMTTYPE=text/html:<p style="margin: 0px\; padding-bottom: 10px\; color: rgb(0\, 0\, 0)\; font-family: Helvetica\, Arial\, sans-serif\; font-size: 12px\;">Check out the latest design for your future station\,&nbsp\;learn about next steps and stay connected.</p>\n\n<p style="margin: 0px\; padding-bottom: 10px\; color: rgb(0\, 0\, 0)\; font-family: Helvetica\, Arial\, sans-serif\; font-size: 12px\;">A short presentation will begin at 6:15 p.m.</p>\n
LOCATION:Lynnwood Convention Center 3711 196th St. SW Lynnwood\, WA 98036
UID:e.3041.658
SEQUENCE:3
DTSTAMP:20260423T053022Z
URL:https://business.lynnwoodchamber.org/events/details/sound-transit-lynnwood-link-open-house-658
END:VEVENT

END:VCALENDAR
