BEGIN:VCALENDAR
VERSION:2.0
PRODID:-//ChamberMaster//Event Calendar 2.0//EN
METHOD:PUBLISH
X-PUBLISHED-TTL:P3D
REFRESH-INTERVAL:P3D
CALSCALE:GREGORIAN
BEGIN:VEVENT
DTSTART:20180712T233000Z
DTEND:20180713T023000Z
X-MICROSOFT-CDO-ALLDAYEVENT:FALSE
SUMMARY:SOLD OUT! EASC Port Report & Summer Cruise
DESCRIPTION:Join Economic Alliance Snohomish County in celebrating the Port's 100th anniversary over light appetizers\, cocktails\, and networking! There will be a brief presentation about current developments and projects at the Port of Everett. The optional Summer Cruise will provide a unique vantage into the Port of Everett's operations while seeing the Port's ongoing developments from a charter boat. Arrive promptly at 4:30 to participate in the Port of Everett's Strategic Visioning and share your feedback on the Port's next 100 years. The optional summer cruise will go from 6:15   7:30pm. Space is limited   register today! Update: This event has reached its maximum capacity. Please contact NicoleA@economicalliancesc.org to be added to our wait list.
X-ALT-DESC;FMTTYPE=text/html:Join Economic Alliance Snohomish County in celebrating the Port&rsquo\;s 100th anniversary over light appetizers\, cocktails\, and networking! There will be a brief presentation about current developments and projects at the Port of Everett. The optional Summer Cruise will provide a unique vantage into the Port of Everett&rsquo\;s operations while seeing the Port&rsquo\;s ongoing developments from a charter boat. Arrive promptly at 4:30 to participate in the Port of Everett&rsquo\;s Strategic Visioning and share your feedback on the Port&rsquo\;s next 100 years. The optional summer cruise will go from 6:15 &ndash\; 7:30pm. Space is limited &ndash\; register today! Update: This event has reached its maximum capacity. Please contact NicoleA@economicalliancesc.org to be added to our wait list.
LOCATION:Port of Everett 1205 Craftsman Way\, Everett 98201
UID:e.3041.394
SEQUENCE:3
DTSTAMP:20260423T053028Z
URL:https://business.lynnwoodchamber.org/events/details/sold-out-easc-port-report-summer-cruise-394
END:VEVENT

END:VCALENDAR
