BEGIN:VCALENDAR
VERSION:2.0
PRODID:-//ChamberMaster//Event Calendar 2.0//EN
METHOD:PUBLISH
X-PUBLISHED-TTL:P3D
REFRESH-INTERVAL:P3D
CALSCALE:GREGORIAN
BEGIN:VEVENT
DTSTART:20170810T153000Z
DTEND:20170810T193000Z
X-MICROSOFT-CDO-ALLDAYEVENT:FALSE
SUMMARY:Snohomish County Tourism Bureau Quarterly Tourism Forum
DESCRIPTION:The Snohomish County Tourism Bureau presents our Summer Quarterly Tourism Forum Join us to learn from a panel of experts about social media platforms to promote your business\, build brand awareness and drive engagement. We are offering two sessions depending on your knowledge and experience level followed by a practicum to get one-on-one support and advice.
X-ALT-DESC;FMTTYPE=text/html:The Snohomish County Tourism Bureau presents our Summer Quarterly Tourism Forum Join us to learn from a panel of experts about social media platforms to promote your business\, build brand awareness and drive engagement. We are offering two sessions depending on your knowledge and experience level followed by a practicum to get one-on-one support and advice.<br />\n
LOCATION:Embassy Suites by Hilton Seattle North Lynnwood 20610 44th Avenue West Lynnwood\, WA 98036
UID:e.3041.17
SEQUENCE:3
DTSTAMP:20260425T112428Z
URL:https://business.lynnwoodchamber.org/events/details/snohomish-county-tourism-bureau-quarterly-tourism-forum-17
END:VEVENT

END:VCALENDAR
