BEGIN:VCALENDAR
VERSION:2.0
PRODID:-//ChamberMaster//Event Calendar 2.0//EN
METHOD:PUBLISH
X-PUBLISHED-TTL:P3D
REFRESH-INTERVAL:P3D
CALSCALE:GREGORIAN
BEGIN:VEVENT
DTSTART:20201029T160000Z
DTEND:20201029T170000Z
X-MICROSOFT-CDO-ALLDAYEVENT:FALSE
SUMMARY:SnoCo Women in Business - Time Matters: A Women's Retirement Outlook
DESCRIPTION:Karley Beebe\, Financial Analyst with Edward Jones Investments will share perspectives on financial concerns facing women who are getting ready for or have recently transitioned to retirement. The presentation shares retirement income strategies\, including perspectives around Social Security\, withdrawal and reliance rates. It also addresses how to prepare for the unexpected\, including market and inflation risks\, and the rising costs of health care and long-term care.\n\n\n\nJoin us for this timely presentation as well as the opportunity to meet new people.
X-ALT-DESC;FMTTYPE=text/html:<span style="color: rgb(35\, 35\, 51)\; font-family: Lato\, Helvetica\, Arial\; font-size: 14px\;">Karley Beebe\, Financial Analyst with Edward Jones Investments will share perspectives on financial concerns facing women who are getting ready for or have recently transitioned to retirement. The presentation shares retirement income strategies\, including perspectives around Social Security\, withdrawal and reliance rates. It also addresses how to prepare for the unexpected\, including market and inflation risks\, and the rising costs of health care and long-term care.</span><br style="box-sizing: border-box\; color: rgb(35\, 35\, 51)\; font-family: Lato\, Helvetica\, Arial\; font-size: 14px\;" />\n<br style="box-sizing: border-box\; color: rgb(35\, 35\, 51)\; font-family: Lato\, Helvetica\, Arial\; font-size: 14px\;" />\n<span style="color: rgb(35\, 35\, 51)\; font-family: Lato\, Helvetica\, Arial\; font-size: 14px\;">Join us for this timely presentation as well as the opportunity to meet new people.</span>
LOCATION:It's virtual!
UID:e.3041.949
SEQUENCE:3
DTSTAMP:20260421T192743Z
URL:https://business.lynnwoodchamber.org/events/details/snoco-women-in-business-time-matters-a-women-s-retirement-outlook-949
END:VEVENT

END:VCALENDAR
