BEGIN:VCALENDAR
VERSION:2.0
PRODID:-//ChamberMaster//Event Calendar 2.0//EN
METHOD:PUBLISH
X-PUBLISHED-TTL:P3D
REFRESH-INTERVAL:P3D
CALSCALE:GREGORIAN
BEGIN:VEVENT
DTSTART:20200729T230000Z
DTEND:20200730T000000Z
X-MICROSOFT-CDO-ALLDAYEVENT:FALSE
SUMMARY:SnoCo Women in Business
DESCRIPTION:Join us for SnoCo Women in Business!\n\n"A unified community for collaboration\, education and empowerment supporting the business success of women."\n\nThis month we will hear from Danielle Carnes of Edmonds College.\n\nOnline Continuing Education - How Do I Do That?
X-ALT-DESC;FMTTYPE=text/html:Join us for SnoCo Women in Business!<br />\n<em>&quot\;A unified community for collaboration\, education and empowerment supporting the business success of women.&quot\;</em><br />\n<strong>This month we will hear from Danielle Carnes of Edmonds College.</strong><br />\n<strong>Online Continuing Education - How Do I Do That?</strong>
LOCATION:It's Virtual!
UID:e.3041.937
SEQUENCE:3
DTSTAMP:20260421T230005Z
URL:https://business.lynnwoodchamber.org/events/details/snoco-women-in-business-937
END:VEVENT

END:VCALENDAR
