BEGIN:VCALENDAR
VERSION:2.0
PRODID:-//ChamberMaster//Event Calendar 2.0//EN
METHOD:PUBLISH
X-PUBLISHED-TTL:P3D
REFRESH-INTERVAL:P3D
CALSCALE:GREGORIAN
BEGIN:VEVENT
DTSTART:20200513T230000Z
DTEND:20200514T000000Z
X-MICROSOFT-CDO-ALLDAYEVENT:FALSE
SUMMARY:SnoCo Women in Business
DESCRIPTION:Join the Lynnwood Chamber of Commerce at the inaugural meeting of SnoCo Women in Business.\n\n"A unified community for collaboration\, education and empowerment supporting the business success of women."\n\nThis is an opportunity to be on the ground floor of SnoCo Women in Business. We will focus on mentorship\, communication and opportunities for discussion that will encourage growth and support in our community.
X-ALT-DESC;FMTTYPE=text/html:Join the Lynnwood Chamber of Commerce at the inaugural meeting of SnoCo Women in Business.<br />\n<em>&quot\;A unified community for collaboration\, education and empowerment supporting the business success of women.&quot\;</em><br />\nThis is an opportunity to be on the ground floor of SnoCo Women in Business. We will focus on mentorship\, communication and opportunities for discussion that will encourage growth and support in our community.
LOCATION:It's Virtual!
UID:e.3041.933
SEQUENCE:3
DTSTAMP:20260422T014013Z
URL:https://business.lynnwoodchamber.org/events/details/snoco-women-in-business-933
END:VEVENT

END:VCALENDAR
