BEGIN:VCALENDAR
VERSION:2.0
PRODID:-//ChamberMaster//Event Calendar 2.0//EN
METHOD:PUBLISH
X-PUBLISHED-TTL:P3D
REFRESH-INTERVAL:P3D
CALSCALE:GREGORIAN
BEGIN:VEVENT
DTSTART:20190222T000000Z
DTEND:20190222T030000Z
X-MICROSOFT-CDO-ALLDAYEVENT:FALSE
SUMMARY:Scriber Garden's First Responder Spaghetti Feed
DESCRIPTION:All money earned goes to making meals for firefighters!
X-ALT-DESC;FMTTYPE=text/html:All money earned goes to making meals for firefighters!
LOCATION:Scriber Gardens 6024 200th St. SW Lynnwood\, WA 98036
UID:e.3041.707
SEQUENCE:3
DTSTAMP:20260422T194407Z
URL:https://business.lynnwoodchamber.org/events/details/scriber-garden-s-first-responder-spaghetti-feed-707
END:VEVENT

END:VCALENDAR
