BEGIN:VCALENDAR
VERSION:2.0
PRODID:-//ChamberMaster//Event Calendar 2.0//EN
METHOD:PUBLISH
X-PUBLISHED-TTL:P3D
REFRESH-INTERVAL:P3D
CALSCALE:GREGORIAN
BEGIN:VEVENT
DTSTART:20190524T000000Z
DTEND:20190524T010000Z
X-MICROSOFT-CDO-ALLDAYEVENT:FALSE
SUMMARY:Ribbon Cutting - Taqueria Puebla
DESCRIPTION:Join us for a Ribbon Cutting to welcome Taqueria Puebla to Lynnwood.
X-ALT-DESC;FMTTYPE=text/html:Join us for a Ribbon Cutting to welcome Taqueria Puebla to Lynnwood.&nbsp\;
LOCATION:16716 Hwy 99\, Ste C Lynnwood
UID:e.3041.853
SEQUENCE:3
DTSTAMP:20260424T082641Z
URL:https://business.lynnwoodchamber.org/events/details/ribbon-cutting-taqueria-puebla-853
END:VEVENT

END:VCALENDAR
