BEGIN:VCALENDAR
VERSION:2.0
PRODID:-//ChamberMaster//Event Calendar 2.0//EN
METHOD:PUBLISH
X-PUBLISHED-TTL:P3D
REFRESH-INTERVAL:P3D
CALSCALE:GREGORIAN
BEGIN:VEVENT
DTSTART:20210630T210000Z
DTEND:20210630T220000Z
X-MICROSOFT-CDO-ALLDAYEVENT:FALSE
SUMMARY:Ribbon Cutting - LASA Sandwiches and Pearls
DESCRIPTION:Join us as we welcome LASA Sandwiches and Pearls to Lynnwood!
X-ALT-DESC;FMTTYPE=text/html:Join us as we welcome LASA Sandwiches and Pearls to Lynnwood!&nbsp\;&nbsp\;&nbsp\;&nbsp\;
LOCATION:18009 Hwy 99\, Ste C Lynnwood\, WA 98037
UID:e.3041.980
SEQUENCE:3
DTSTAMP:20260421T071346Z
URL:https://business.lynnwoodchamber.org/events/details/ribbon-cutting-lasa-sandwiches-and-pearls-980
END:VEVENT

END:VCALENDAR
