BEGIN:VCALENDAR
VERSION:2.0
PRODID:-//ChamberMaster//Event Calendar 2.0//EN
METHOD:PUBLISH
X-PUBLISHED-TTL:P3D
REFRESH-INTERVAL:P3D
CALSCALE:GREGORIAN
BEGIN:VEVENT
DTSTART:20190522T000000Z
DTEND:20190522T010000Z
X-MICROSOFT-CDO-ALLDAYEVENT:FALSE
SUMMARY:Ribbon Cutting - Human Forge Training
DESCRIPTION:Join us for a Ribbon Cutting to welcome Human Forge Training to Lynnwood.
X-ALT-DESC;FMTTYPE=text/html:Join us for a Ribbon Cutting to welcome Human Forge Training to Lynnwood.&nbsp\;
LOCATION:19019 36th Ave. W Lynnwood
UID:e.3041.845
SEQUENCE:3
DTSTAMP:20260422T153246Z
URL:https://business.lynnwoodchamber.org/events/details/ribbon-cutting-human-forge-training-845
END:VEVENT

END:VCALENDAR
