BEGIN:VCALENDAR
VERSION:2.0
PRODID:-//ChamberMaster//Event Calendar 2.0//EN
METHOD:PUBLISH
X-PUBLISHED-TTL:P3D
REFRESH-INTERVAL:P3D
CALSCALE:GREGORIAN
BEGIN:VEVENT
DTSTART:20180524T013000Z
DTEND:20180524T030000Z
X-MICROSOFT-CDO-ALLDAYEVENT:FALSE
SUMMARY:Retirement Workshop
DESCRIPTION:This free workshop provides valuable information to help you plan for retirement. Our next workshop will be held May 23rd\, Wednesday evening\, 6:30pm at Bob's Burgers & Brew-Everett. A light dinner will be served. If you haven't been to a previous workshop\, give this one a try. You'll be glad you attended.
X-ALT-DESC;FMTTYPE=text/html:This free workshop provides valuable information to help you plan for retirement. Our next workshop will be held May 23rd\, Wednesday evening\, 6:30pm at Bob&#39\;s Burgers &amp\; Brew-Everett. A light dinner will be served. If you haven&#39\;t been to a previous workshop\, give this one a try. You&#39\;ll be glad you attended.
LOCATION:Bob's Burgers and Brew-Everett 1611 SE Everett Mall Way Everett\, WA 98208
UID:e.3041.205
SEQUENCE:3
DTSTAMP:20260423T080718Z
URL:https://business.lynnwoodchamber.org/events/details/retirement-workshop-205
END:VEVENT

END:VCALENDAR
