BEGIN:VCALENDAR
VERSION:2.0
PRODID:-//ChamberMaster//Event Calendar 2.0//EN
METHOD:PUBLISH
X-PUBLISHED-TTL:P3D
REFRESH-INTERVAL:P3D
CALSCALE:GREGORIAN
BEGIN:VEVENT
DTSTART:20191212T023000Z
DTEND:20191212T043000Z
X-MICROSOFT-CDO-ALLDAYEVENT:FALSE
SUMMARY:Puget Sound Express Open House
DESCRIPTION:Meet the crew and join in the holiday cheer onboard Puget Sound Express' MV Saratoga at J-Dock - Argosy's Christmas Ship parade will pass the fishing dock from 7-8pm.
X-ALT-DESC;FMTTYPE=text/html:Meet the crew and join in the holiday cheer onboard Puget Sound Express&#39\; MV Saratoga at J-Dock - Argosy&#39\;s Christmas Ship parade will pass the fishing dock from 7-8pm.
LOCATION:J-Dock (in front of Anthony's)
UID:e.3041.904
SEQUENCE:3
DTSTAMP:20260422T063244Z
URL:https://business.lynnwoodchamber.org/events/details/puget-sound-express-open-house-904
END:VEVENT

END:VCALENDAR
