BEGIN:VCALENDAR
VERSION:2.0
PRODID:-//ChamberMaster//Event Calendar 2.0//EN
METHOD:PUBLISH
X-PUBLISHED-TTL:P3D
REFRESH-INTERVAL:P3D
CALSCALE:GREGORIAN
BEGIN:VEVENT
DTSTART;VALUE=DATE:20201116
DTEND;VALUE=DATE:20201118
TRANSP:TRANSPARENT
X-MICROSOFT-CDO-ALLDAYEVENT:TRUE
SUMMARY:Pop-Up Donor Center (Blood Drive)
DESCRIPTION:Register to donate blood at the North Creek Presbyterian Church on November 16th or 17th and have your choice of receiving either a $10 Arcade Voucher or a Free Round of Laser Tag valid for the Arena Sports in Mill Creek! Sponsored by Bloodworks NW.
X-ALT-DESC;FMTTYPE=text/html:Register to donate blood at the North Creek Presbyterian Church on November 16th or 17th and have your choice of receiving either a $10 Arcade Voucher or a Free Round of Laser Tag valid for the Arena Sports in Mill Creek! Sponsored by Bloodworks NW.
LOCATION:North Creek Presbyterian Church 621 164th St. SE Mill Creek\, WA 98012
UID:e.3041.953
SEQUENCE:3
DTSTAMP:20260421T170114Z
URL:https://business.lynnwoodchamber.org/events/details/pop-up-donor-center-blood-drive-953
END:VEVENT

END:VCALENDAR
