BEGIN:VCALENDAR
VERSION:2.0
PRODID:-//ChamberMaster//Event Calendar 2.0//EN
METHOD:PUBLISH
X-PUBLISHED-TTL:P3D
REFRESH-INTERVAL:P3D
CALSCALE:GREGORIAN
BEGIN:VEVENT
DTSTART;VALUE=DATE:20201123
DTEND;VALUE=DATE:20201125
TRANSP:TRANSPARENT
X-MICROSOFT-CDO-ALLDAYEVENT:TRUE
SUMMARY:Pop-Up Donor Center (Blood Drive)
DESCRIPTION:Bloodworks NW has partnered with Top Pot Doughnuts to help encourage blood donations this fall. Register to donate blood at the New Life Church on November 24th and enjoy a sweet treat!
X-ALT-DESC;FMTTYPE=text/html:Bloodworks NW has partnered with Top Pot Doughnuts to help encourage blood donations this fall. Register to donate blood at the New Life Church on November 24th and enjoy a sweet treat!
LOCATION:New Life Church - Lynnwood 6519 188th St. Sw. Lynnwood
UID:e.3041.954
SEQUENCE:3
DTSTAMP:20260421T170236Z
URL:https://business.lynnwoodchamber.org/events/details/pop-up-donor-center-blood-drive-11-23-2020-954
END:VEVENT

END:VCALENDAR
