BEGIN:VCALENDAR
VERSION:2.0
PRODID:-//ChamberMaster//Event Calendar 2.0//EN
METHOD:PUBLISH
X-PUBLISHED-TTL:P3D
REFRESH-INTERVAL:P3D
CALSCALE:GREGORIAN
BEGIN:VEVENT
DTSTART:20210128T170000Z
DTEND:20210129T000000Z
X-MICROSOFT-CDO-ALLDAYEVENT:FALSE
SUMMARY:Pop-Up Donor Center (Blood Drive)
DESCRIPTION:In partnership with Haselwood Auto Group\, Bloodworks Northwest is giving away a car again! Donate between December 28th and March 17th for a chance to win one of nine pre-selected automobiles! This year there's a Jeep for the adventurer\, not one but TWO hybrids for the ecologically-minded\, a Mazda for the sportier types\, and more! Now is the time to find a Pop-Up Donor Center to make sure you're in the driver's seat for this high-octane promotion! Check out the terms and conditions at bloodworksnw.org/winacar.
X-ALT-DESC;FMTTYPE=text/html:In partnership with Haselwood Auto Group\, Bloodworks Northwest is giving away a car&hellip\;again! Donate between December 28th and March 17th for a chance to win one of nine pre-selected automobiles! This year there&rsquo\;s a Jeep for the adventurer\, not one but TWO hybrids for the ecologically-minded\, a Mazda for the sportier types\, and more! Now is the time to find a Pop-Up Donor Center to make sure you&rsquo\;re in the driver&rsquo\;s seat for this high-octane promotion! Check out the terms and conditions at bloodworksnw.org/winacar.
LOCATION:Lynnwood Convention Center
UID:e.3041.958
SEQUENCE:3
DTSTAMP:20260421T140539Z
URL:https://business.lynnwoodchamber.org/events/details/pop-up-donor-center-blood-drive-01-28-2021-958
END:VEVENT

END:VCALENDAR
