BEGIN:VCALENDAR
VERSION:2.0
PRODID:-//ChamberMaster//Event Calendar 2.0//EN
METHOD:PUBLISH
X-PUBLISHED-TTL:P3D
REFRESH-INTERVAL:P3D
CALSCALE:GREGORIAN
BEGIN:VEVENT
DTSTART;VALUE=DATE:20210128
DTEND;VALUE=DATE:20210130
TRANSP:TRANSPARENT
X-MICROSOFT-CDO-ALLDAYEVENT:TRUE
SUMMARY:Pop-Up Donor Center (Blood Drive)
DESCRIPTION:Donating blood is a simple act that can mean so much to those in need. January is National Blood Donor Month\, so what better time to make a donation and impact someone's life? That "someone" could be a loved one or friend. It's the time of year when local blood supplies are dipping due to high patient demand. Don't wait until a person close to you needs blood\, act now by giving at a Pop-Up Donor Center near you.
X-ALT-DESC;FMTTYPE=text/html:Donating blood is a simple act that can mean so much to those in need. January is National Blood Donor Month\, so what better time to make a donation and impact someone&rsquo\;s life? That &ldquo\;someone&rdquo\; could be a loved one or friend. It&rsquo\;s the time of year when local blood supplies are dipping due to high patient demand. Don&rsquo\;t wait until a person close to you needs blood\, act now by giving at a Pop-Up Donor Center near you.
LOCATION:Lynnwood Convention Center
UID:e.3041.956
SEQUENCE:3
DTSTAMP:20260421T140556Z
URL:https://business.lynnwoodchamber.org/events/details/pop-up-donor-center-blood-drive-01-28-2021-956
END:VEVENT

END:VCALENDAR
