BEGIN:VCALENDAR
VERSION:2.0
PRODID:-//ChamberMaster//Event Calendar 2.0//EN
METHOD:PUBLISH
X-PUBLISHED-TTL:P3D
REFRESH-INTERVAL:P3D
CALSCALE:GREGORIAN
BEGIN:VEVENT
DTSTART:20180607T230000Z
DTEND:20180608T020000Z
X-MICROSOFT-CDO-ALLDAYEVENT:FALSE
SUMMARY:PLC Insurance Grand Opening and Ribbon Cutting
DESCRIPTION:
X-ALT-DESC;FMTTYPE=text/html:
LOCATION:19401 40th Ave. W.\, Suite 440 Lynnwood\, WA 98036
UID:e.3041.243
SEQUENCE:3
DTSTAMP:20260423T065010Z
URL:https://business.lynnwoodchamber.org/events/details/plc-insurance-grand-opening-and-ribbon-cutting-243
END:VEVENT

END:VCALENDAR
