BEGIN:VCALENDAR
VERSION:2.0
PRODID:-//ChamberMaster//Event Calendar 2.0//EN
METHOD:PUBLISH
X-PUBLISHED-TTL:P3D
REFRESH-INTERVAL:P3D
CALSCALE:GREGORIAN
BEGIN:VEVENT
DTSTART:20180804T190000Z
DTEND:20180804T230000Z
X-MICROSOFT-CDO-ALLDAYEVENT:FALSE
SUMMARY:Phenix Salon Suites Grand Opening Party
DESCRIPTION:You are cordially invited to the Grand Opening Party of the newest Phenix Salon Suites in Lynnwood.
X-ALT-DESC;FMTTYPE=text/html:You are cordially invited to the Grand Opening Party of the newest Phenix Salon Suites in Lynnwood.&nbsp\;
LOCATION:Phenix Salon Suites - Alderwood Mall 18811 28th Ave. W Lynnwood\, WA 98036
UID:e.3041.401
SEQUENCE:3
DTSTAMP:20260423T041001Z
URL:https://business.lynnwoodchamber.org/events/details/phenix-salon-suites-grand-opening-party-401
END:VEVENT

END:VCALENDAR
