BEGIN:VCALENDAR
VERSION:2.0
PRODID:-//ChamberMaster//Event Calendar 2.0//EN
METHOD:PUBLISH
X-PUBLISHED-TTL:P3D
REFRESH-INTERVAL:P3D
CALSCALE:GREGORIAN
BEGIN:VEVENT
DTSTART:20180627T220000Z
DTEND:20180628T000000Z
X-MICROSOFT-CDO-ALLDAYEVENT:FALSE
SUMMARY:Parkside Back and Neck Care Grand Opening and Ribbon Cutting
DESCRIPTION:Join in the celebration!
X-ALT-DESC;FMTTYPE=text/html:Join in the celebration!<br />\n&nbsp\;
LOCATION:19125 33rd Ave. W. Lynnwood\, WA 98036
UID:e.3041.381
SEQUENCE:3
DTSTAMP:20260423T064926Z
URL:https://business.lynnwoodchamber.org/events/details/parkside-back-and-neck-care-grand-opening-and-ribbon-cutting-381
END:VEVENT

END:VCALENDAR
