BEGIN:VCALENDAR
VERSION:2.0
PRODID:-//ChamberMaster//Event Calendar 2.0//EN
METHOD:PUBLISH
X-PUBLISHED-TTL:P3D
REFRESH-INTERVAL:P3D
CALSCALE:GREGORIAN
BEGIN:VEVENT
DTSTART:20180930T200000Z
DTEND:20181001T000000Z
X-MICROSOFT-CDO-ALLDAYEVENT:FALSE
SUMMARY:Parenting Teen Girls 24/7
DESCRIPTION:Book Signing...Meet The Author
X-ALT-DESC;FMTTYPE=text/html:Book Signing...Meet The Author
LOCATION:Barnes & Noble\, 19401 Alderwood Mall Pkwy\, Lynwood WA
UID:e.3041.661
SEQUENCE:3
DTSTAMP:20260423T041511Z
URL:https://business.lynnwoodchamber.org/events/details/parenting-teen-girls-24-7-661
END:VEVENT

END:VCALENDAR
