BEGIN:VCALENDAR
VERSION:2.0
PRODID:-//ChamberMaster//Event Calendar 2.0//EN
METHOD:PUBLISH
X-PUBLISHED-TTL:P3D
REFRESH-INTERVAL:P3D
CALSCALE:GREGORIAN
BEGIN:VEVENT
DTSTART;VALUE=DATE:20180727
DTEND;VALUE=DATE:20180728
TRANSP:TRANSPARENT
X-MICROSOFT-CDO-ALLDAYEVENT:TRUE
SUMMARY:Par 4 Kids Golf Tournament
DESCRIPTION:Par 4 Kids Golf Tournament\n\nBrought to you by the Lynnwood Parks and Recreation Foundation and Lynnwood Rotary
X-ALT-DESC;FMTTYPE=text/html:Par 4 Kids Golf Tournament<br />\nBrought to you by the Lynnwood Parks and Recreation Foundation and Lynnwood Rotary
LOCATION:Lynnwood Municipal Golf Course 20200 68th Ave W.\, Lynnwood\, WA 98036
UID:e.3041.391
SEQUENCE:3
DTSTAMP:20260423T052906Z
URL:https://business.lynnwoodchamber.org/events/details/par-4-kids-golf-tournament-391
END:VEVENT

END:VCALENDAR
