BEGIN:VCALENDAR
VERSION:2.0
PRODID:-//ChamberMaster//Event Calendar 2.0//EN
METHOD:PUBLISH
X-PUBLISHED-TTL:P3D
REFRESH-INTERVAL:P3D
CALSCALE:GREGORIAN
BEGIN:VEVENT
DTSTART:20190425T220000Z
DTEND:20190426T010000Z
X-MICROSOFT-CDO-ALLDAYEVENT:FALSE
SUMMARY:Open House - Domestic Violence Services' South County Advocacy Center
DESCRIPTION:Join Domestic Violence Services for an Open House!\n\nHelp us celebrate the opening of our new advocacy center serving south Snohomish County! Join us for cake and punch and a tour of the new center.
X-ALT-DESC;FMTTYPE=text/html:Join Domestic Violence Services for an Open House!<br />\nHelp us celebrate the opening of our new advocacy center serving south Snohomish County! Join us for cake and punch and a tour of the new center.
LOCATION:4232 198th St. SW Lynnwood\, WA 98036
UID:e.3041.843
SEQUENCE:3
DTSTAMP:20260422T181935Z
URL:https://business.lynnwoodchamber.org/events/details/open-house-domestic-violence-services-south-county-advocacy-center-843
END:VEVENT

END:VCALENDAR
