BEGIN:VCALENDAR
VERSION:2.0
PRODID:-//ChamberMaster//Event Calendar 2.0//EN
METHOD:PUBLISH
X-PUBLISHED-TTL:P3D
REFRESH-INTERVAL:P3D
CALSCALE:GREGORIAN
BEGIN:VEVENT
DTSTART:20210929T230000Z
DTEND:20210930T020000Z
X-MICROSOFT-CDO-ALLDAYEVENT:FALSE
SUMMARY:Open House at New and Again Thrift Shoppe
DESCRIPTION:Please join Domestic Violence Services of Snohomish County for an Open House at our New and Again Thrift Shoppe. Enjoy door prizes\, shopping and pick up a meal to go at the Here and There Food Truck from 4:30 to 6:30.
X-ALT-DESC;FMTTYPE=text/html:Please join Domestic Violence Services of Snohomish County for an Open House at our New and Again Thrift Shoppe. Enjoy door prizes\, shopping and pick up a meal to go at the Here and There Food Truck from 4:30 to 6:30.
LOCATION:New and Again Thrift Shoppe 3010 Grand Ave Everett\, WA 98201
UID:e.3041.988
SEQUENCE:3
DTSTAMP:20260421T021749Z
URL:https://business.lynnwoodchamber.org/events/details/open-house-at-new-and-again-thrift-shoppe-988
END:VEVENT

END:VCALENDAR
