BEGIN:VCALENDAR
VERSION:2.0
PRODID:-//ChamberMaster//Event Calendar 2.0//EN
METHOD:PUBLISH
X-PUBLISHED-TTL:P3D
REFRESH-INTERVAL:P3D
CALSCALE:GREGORIAN
BEGIN:VEVENT
DTSTART:20180120T180000Z
DTEND:20180121T000000Z
X-MICROSOFT-CDO-ALLDAYEVENT:FALSE
SUMMARY:NW Mind Body Spirit Connection
DESCRIPTION:Learn from the region's top experts in holistic health and wellness.
X-ALT-DESC;FMTTYPE=text/html:Learn from the region&#39\;s top experts in holistic health and wellness.
LOCATION:Lynnwood Convention Center 3711 196th St SW Lynnwood\, WA 98036
UID:e.3041.40
SEQUENCE:3
DTSTAMP:20260423T163756Z
URL:https://business.lynnwoodchamber.org/events/details/nw-mind-body-spirit-connection-40
END:VEVENT

END:VCALENDAR
