BEGIN:VCALENDAR
VERSION:2.0
PRODID:-//ChamberMaster//Event Calendar 2.0//EN
METHOD:PUBLISH
X-PUBLISHED-TTL:P3D
REFRESH-INTERVAL:P3D
CALSCALE:GREGORIAN
BEGIN:VEVENT
DTSTART:20190516T010000Z
DTEND:20190516T040000Z
X-MICROSOFT-CDO-ALLDAYEVENT:FALSE
SUMMARY:Nothing but NETworking: Night with the Seattle Storm
DESCRIPTION:Join EASC\, the Lynnwood Chamber of Commerce\, and the Seattle Storm for a night of networking in the Octane Lounge as the Seattle Storm kicks off with a Pre-Season game against the Phoenix Mercury. Hosted appetizers\, networking\, and raffle prizes! Ticket price includes admission to the game.
X-ALT-DESC;FMTTYPE=text/html:Join EASC\, the Lynnwood Chamber of Commerce\, and the Seattle Storm for a night of networking in the Octane Lounge as the Seattle Storm kicks off with a Pre-Season game against the Phoenix Mercury. Hosted appetizers\, networking\, and raffle prizes! Ticket price includes admission to the game.
LOCATION:Octane Lounge at Angel of the Winds Arena 2000 Hewitt Ave Everett\, WA 98201
UID:e.3041.849
SEQUENCE:3
DTSTAMP:20260422T165550Z
URL:https://business.lynnwoodchamber.org/events/details/nothing-but-networking-night-with-the-seattle-storm-849
END:VEVENT

END:VCALENDAR
