BEGIN:VCALENDAR
VERSION:2.0
PRODID:-//ChamberMaster//Event Calendar 2.0//EN
METHOD:PUBLISH
X-PUBLISHED-TTL:P3D
REFRESH-INTERVAL:P3D
CALSCALE:GREGORIAN
BEGIN:VEVENT
DTSTART:20191022T140000Z
DTEND:20191022T153000Z
X-MICROSOFT-CDO-ALLDAYEVENT:FALSE
SUMMARY:No Homeless Kids Benefit Breakfast
DESCRIPTION:Children shouldn't be homeless   yet their number is rising. Vision House services are needed more than ever. Come hear from a woman who experienced homelessness as a child\, and hear how you can help break the cycle of homelessness for a child today. To host a table\, sponsor the event\, or find out more information contact events@visionhouse.org or 425.228.6356 No cost to attend   bring a friend! Guests will be asked to make a donation during the event. Proceeds benefit Vision House families in Shoreline and Renton.
X-ALT-DESC;FMTTYPE=text/html:Children shouldn&rsquo\;t be homeless &ndash\; yet their number is rising. Vision House services are needed more than ever. Come hear from a woman who experienced homelessness as a child\, and hear how you can help break the cycle of homelessness for a child today. To host a table\, sponsor the event\, or find out more information contact events@visionhouse.org or 425.228.6356 No cost to attend &ndash\; bring a friend! Guests will be asked to make a donation during the event. Proceeds benefit Vision House families in Shoreline and Renton.
LOCATION:Lynnwood Convention Center 3711 196th St SW\, Lynnwood\, WA 98036
UID:e.3041.866
SEQUENCE:3
DTSTAMP:20260422T091824Z
URL:https://business.lynnwoodchamber.org/events/details/no-homeless-kids-benefit-breakfast-866
END:VEVENT

END:VCALENDAR
