BEGIN:VCALENDAR
VERSION:2.0
PRODID:-//ChamberMaster//Event Calendar 2.0//EN
METHOD:PUBLISH
X-PUBLISHED-TTL:P3D
REFRESH-INTERVAL:P3D
CALSCALE:GREGORIAN
BEGIN:VEVENT
DTSTART:20190626T003000Z
DTEND:20190626T020000Z
X-MICROSOFT-CDO-ALLDAYEVENT:FALSE
SUMMARY:Night at the AquaSox
DESCRIPTION:Join EASC and your local chambers of commerce for networking\, all-you-can-eat-BBQ\, raffle prizes and watching the Everett AquaSox play against the Vancouver Canadians!
X-ALT-DESC;FMTTYPE=text/html:Join EASC and your local chambers of commerce for networking\, all-you-can-eat-BBQ\, raffle prizes and watching the Everett AquaSox play against the Vancouver Canadians!
LOCATION:Everett Memorial Stadium Miller Light BBQ Bullpen 3900 Broadway\, Everett
UID:e.3041.854
SEQUENCE:3
DTSTAMP:20260422T153610Z
URL:https://business.lynnwoodchamber.org/events/details/night-at-the-aquasox-854
END:VEVENT

END:VCALENDAR
