BEGIN:VCALENDAR
VERSION:2.0
PRODID:-//ChamberMaster//Event Calendar 2.0//EN
METHOD:PUBLISH
X-PUBLISHED-TTL:P3D
REFRESH-INTERVAL:P3D
CALSCALE:GREGORIAN
BEGIN:VEVENT
DTSTART:20190423T190000Z
DTEND:20190423T203000Z
X-MICROSOFT-CDO-ALLDAYEVENT:FALSE
SUMMARY:New Hope for Alzheimer's!
DESCRIPTION:Keep your Brain Young at Any Age!\n\nThis month: New Hope for Alzheimer's!\n\nTips for dementia caregivers and individuals interested in preserving brain health.\n\nPresented by Aegis Living of Lynnwood
X-ALT-DESC;FMTTYPE=text/html:Keep your Brain Young at Any Age!<br />\nThis month: New Hope for Alzheimer&#39\;s!<br />\nTips for dementia caregivers and individuals interested in preserving brain health.<br />\nPresented by Aegis Living of Lynnwood
LOCATION:Lynnwood Fire Station Meeting Room 18800 44th Ave. W. Lynnwood\, WA 98037
UID:e.3041.706
SEQUENCE:3
DTSTAMP:20260422T165551Z
URL:https://business.lynnwoodchamber.org/events/details/new-hope-for-alzheimer-s-706
END:VEVENT

END:VCALENDAR
