BEGIN:VCALENDAR
VERSION:2.0
PRODID:-//ChamberMaster//Event Calendar 2.0//EN
METHOD:PUBLISH
X-PUBLISHED-TTL:P3D
REFRESH-INTERVAL:P3D
CALSCALE:GREGORIAN
BEGIN:VEVENT
DTSTART:20180508T230000Z
DTEND:20180509T010000Z
X-MICROSOFT-CDO-ALLDAYEVENT:FALSE
SUMMARY:Networking for a Cause
DESCRIPTION:After Hours Celebrating\n\nChick-fil-A Clothing Drive Kick-off for Clothes for Kids \n\nand the NEW Lynnwood Chamber Office
X-ALT-DESC;FMTTYPE=text/html:<strong style="color: rgb(225\, 82\, 61)\; font-size: 14px\;">After Hours&nbsp\;Celebrating<br />\nChick-fil-A&nbsp\;Clothing Drive Kick-off for Clothes for Kids&nbsp\;<br />\n<em>and&nbsp\;</em>the NEW&nbsp\;Lynnwood&nbsp\;Chamber Office</strong>
LOCATION:3815 196th St SW\, Suite 136 Lynnwood\, Wa 98036
UID:e.3041.214
SEQUENCE:3
DTSTAMP:20260423T080536Z
URL:https://business.lynnwoodchamber.org/events/details/networking-for-a-cause-214
END:VEVENT

END:VCALENDAR
