BEGIN:VCALENDAR
VERSION:2.0
PRODID:-//ChamberMaster//Event Calendar 2.0//EN
METHOD:PUBLISH
X-PUBLISHED-TTL:P3D
REFRESH-INTERVAL:P3D
CALSCALE:GREGORIAN
BEGIN:VEVENT
DTSTART:20201102T180000Z
DTEND:20201106T023000Z
X-MICROSOFT-CDO-ALLDAYEVENT:FALSE
SUMMARY:National Veteran Small Business Week (NVSBW)
DESCRIPTION:In recognition of National Veteran Small Business Week (NVSBW)\, the Veteran Business Outreach Center and Business Impact NW will host a week of programming to empower veteran-owned small businesses and promote virtual connections within the community. The program will feature presentations from leading experts of veteran-owned small businesses\, opportunities for virtual networking and resource sharing\, as well as mini-grants for attendees.
X-ALT-DESC;FMTTYPE=text/html:In recognition of National Veteran Small Business Week (NVSBW)\, the Veteran Business Outreach Center and Business Impact NW will host a week of programming to empower veteran-owned small businesses and promote virtual connections within the community. The program will feature presentations from leading experts of veteran-owned small businesses\, opportunities for virtual networking and resource sharing\, as well as mini-grants for attendees.
LOCATION:Online
UID:e.3041.947
SEQUENCE:3
DTSTAMP:20260421T181050Z
URL:https://business.lynnwoodchamber.org/events/details/national-veteran-small-business-week-nvsbw-947
END:VEVENT

END:VCALENDAR
