BEGIN:VCALENDAR
VERSION:2.0
PRODID:-//ChamberMaster//Event Calendar 2.0//EN
METHOD:PUBLISH
X-PUBLISHED-TTL:P3D
REFRESH-INTERVAL:P3D
CALSCALE:GREGORIAN
BEGIN:VEVENT
DTSTART:20200214T180000Z
DTEND:20200215T010000Z
X-MICROSOFT-CDO-ALLDAYEVENT:FALSE
SUMMARY:Mr. Kleen's St.Valentine's Day Celebration
DESCRIPTION:Carnations\, Caf  samples\, Candy\, Coupons for all! (while supplies last) Come visit with Mr. & Ms. Heart...they'll be in their red and white heart suits. Oh\, boy!
X-ALT-DESC;FMTTYPE=text/html:Carnations\, Caf&eacute\; samples\, Candy\, Coupons for all! (while supplies last) Come visit with Mr. &amp\; Ms. Heart...they&#39\;ll be in their red and white heart suits. Oh\, boy!
LOCATION:19611 Alderwood Mall Pkwy 19907 44th Ave W Lynnwood\, WA 98036
UID:e.3041.919
SEQUENCE:3
DTSTAMP:20260422T042646Z
URL:https://business.lynnwoodchamber.org/events/details/mr-kleen-s-st-valentine-s-day-celebration-919
END:VEVENT

END:VCALENDAR
